BEGIN:VCALENDAR
VERSION:2.0
PRODID:-//Piacenza Patrimonio Culturale Ecclesiale - ECPv6.5.1.4//NONSGML v1.0//EN
CALSCALE:GREGORIAN
METHOD:PUBLISH
X-ORIGINAL-URL:https://piacenzapace.it
X-WR-CALDESC:Eventi per Piacenza Patrimonio Culturale Ecclesiale
REFRESH-INTERVAL;VALUE=DURATION:PT1H
X-Robots-Tag:noindex
X-PUBLISHED-TTL:PT1H
BEGIN:VTIMEZONE
TZID:Europe/Rome
BEGIN:DAYLIGHT
TZOFFSETFROM:+0100
TZOFFSETTO:+0200
TZNAME:CEST
DTSTART:20230326T010000
END:DAYLIGHT
BEGIN:STANDARD
TZOFFSETFROM:+0200
TZOFFSETTO:+0100
TZNAME:CET
DTSTART:20231029T010000
END:STANDARD
END:VTIMEZONE
BEGIN:VEVENT
DTSTART;TZID=Europe/Rome:20231210T153000
DTEND;TZID=Europe/Rome:20231210T170000
DTSTAMP:20260420T152042
CREATED:20231117T110317Z
LAST-MODIFIED:20231122T133722Z
UID:10643-1702222200-1702227600@piacenzapace.it
SUMMARY:Un capolavoro "al buio"
DESCRIPTION:Come sarebbe\, prima di vedere un’opera d’arte…ascoltarla? Facciamoci trasportare dalle parole per descrivere nella nostra mente un’opera d’arte natalizia e proviamo a riprodurla prima di ammirare l’originale\, andando a cercarla tra tutte quelle conservate in museo. \netà: 5 – 11 anni\ncontributo di partecipazione: 3\,00 €\nPrenotazione obbligatoria a cattedralepiacenza@gmail.com o 331 460 6435
URL:https://piacenzapace.it/eventi/un-capolavoro-al-buio/
LOCATION:Kronos – Museo della Cattedrale\, via Prevostura 7\, Piacenza\, 29121
CATEGORIES:didattica,Natale ad Arte 2023
ATTACH;FMTTYPE=image/jpeg:https://piacenzapace.it/wp-content/uploads/2023/11/capolavori-al-buio.jpg
END:VEVENT
BEGIN:VEVENT
DTSTART;TZID=Europe/Rome:20231210T153000
DTEND;TZID=Europe/Rome:20231210T180000
DTSTAMP:20260420T152042
CREATED:20231117T105620Z
LAST-MODIFIED:20231205T155217Z
UID:10637-1702222200-1702231200@piacenzapace.it
SUMMARY:Piacenza a tavola. Cibi e tradizioni nelle ricette\, dai pellegrini a oggi
DESCRIPTION:In arrivo l’ultimo appuntamento per il 2023 di «Piacenza da scoprire»\, inserito all’interno della settima edizione della rassegna culturale Natale ad Arte a cura dell’Ufficio Beni Culturali della Diocesi\, Kronos – Museo della Cattedrale e CoolTour \nL’itinerario partirà alle ore 15.30 dal Museo Kronos e condurrà i visitatori in un tour all’insegna del buon cibo\, in un viaggio nelle eccellenze culinarie\, nella storia\, nella tradizione e nella cultura di Piacenza\, cuore della Food Valley. \nCon «Piacenza a tavola. Cibi e tradizioni nelle ricette\, dai pellegrini a oggi» si proverà a dare risposta ad alcuni interrogativi: quali erano le antiche ricette\, gli usi e le etichette presenti sulla tavola dei piacentini che vivevano nei palazzi più belli? E quelli della tavola delle case più umili? Quali erano i consigli dietetici presenti nel Libro del Maestro\, prezioso codice liturgico del XII secolo e cosa mangiavano i pellegrini? Un itinerario sulle tracce dei sapori e delle tradizioni di uno dei maggiori punti di forza della città\, che toccherà anche la grande cucina dei Farnese: la “famiglia del giglio” ne fece una questione di vita e di morte\, al punto che Antonio Farnese – ultimo della dinastia – morì… proprio di indigestione! Il tour si concluderà con una degustazione di prodotti locali all’interno del museo. \nContributo di partecipazione: 12\,00 € \nPrenotazione obbligatoria a cattedralepiacenza@gmail.com o 331 460 6435 (numero attivo dalle 10:00 alle 18:00). Il tour si attiverà al raggiungimento di un numero minimo di iscritti. \nPartenza dal Museo Kronos.
URL:https://piacenzapace.it/eventi/piacenza-a-tavola/
LOCATION:Kronos – Museo della Cattedrale\, via Prevostura 7\, Piacenza\, 29121
CATEGORIES:Eventi,Natale ad Arte 2023,Piacenza da scoprire
ATTACH;FMTTYPE=image/jpeg:https://piacenzapace.it/wp-content/uploads/2023/11/cibo-tavola.jpg
END:VEVENT
BEGIN:VEVENT
DTSTART;TZID=Europe/Rome:20231210T164500
DTEND;TZID=Europe/Rome:20231210T173000
DTSTAMP:20260420T152042
CREATED:20231117T111019Z
LAST-MODIFIED:20231122T133800Z
UID:10646-1702226700-1702229400@piacenzapace.it
SUMMARY:Vesperali – di musica e di parole
DESCRIPTION:In questa seconda edizione dei Vesperali d’Avvento saranno ancora una volta musica e parole a risuonare tra le maestose volte della Cattedrale per disegnare il singolare cammino che conduce al Natale. Un cammino caratterizzato da storie personali di ricerca che si esprimono in altrettante singolari vocazioni scandite dalla musica scelta dall’organista titolare della Cattedrale di Piacenza\, il M° Federico Perotti. A raccogliere le preziose sillabe delle narrazioni sarà la giornalista Barbara Tondini. Segue\, alle ore 18:00\, il canto dei Secondi Vespri delle Domeniche di Avvento \nOspite: Maestro Giuseppe Liberto\, già direttore della Cappella musicale pontificia sistina\nMusiche: J.S. Bach\, G. Liberto\, J. Alain\, A. Guilmant \ningresso libero fino a esaurimento posti
URL:https://piacenzapace.it/eventi/vesperali-di-musica-e-di-parole-2/
LOCATION:Privato: Cattedrale di Piacenza\, Piazza Duomo\, Piacenza\, Italia
CATEGORIES:Concerti,Natale ad Arte 2023
ATTACH;FMTTYPE=image/jpeg:https://piacenzapace.it/wp-content/uploads/2023/11/Giuseppe_Liberto.jpg
END:VEVENT
END:VCALENDAR