BEGIN:VCALENDAR
VERSION:2.0
PRODID:-//Piacenza Patrimonio Culturale Ecclesiale - ECPv6.5.1.4//NONSGML v1.0//EN
CALSCALE:GREGORIAN
METHOD:PUBLISH
X-WR-CALNAME:Piacenza Patrimonio Culturale Ecclesiale
X-ORIGINAL-URL:https://piacenzapace.it
X-WR-CALDESC:Eventi per Piacenza Patrimonio Culturale Ecclesiale
REFRESH-INTERVAL;VALUE=DURATION:PT1H
X-Robots-Tag:noindex
X-PUBLISHED-TTL:PT1H
BEGIN:VTIMEZONE
TZID:Europe/Rome
BEGIN:DAYLIGHT
TZOFFSETFROM:+0100
TZOFFSETTO:+0200
TZNAME:CEST
DTSTART:20230326T010000
END:DAYLIGHT
BEGIN:STANDARD
TZOFFSETFROM:+0200
TZOFFSETTO:+0100
TZNAME:CET
DTSTART:20231029T010000
END:STANDARD
END:VTIMEZONE
BEGIN:VEVENT
DTSTART;TZID=Europe/Rome:20231221T200000
DTEND;TZID=Europe/Rome:20231221T210000
DTSTAMP:20260420T114603
CREATED:20231117T115244Z
LAST-MODIFIED:20231219T113925Z
UID:10666-1703188800-1703192400@piacenzapace.it
SUMMARY:Immagini e suoni di Natale
DESCRIPTION:Per un massimo di 12 persone sarà possibile prendere parte a un percorso di valorizzazione speciale tra museo e cupola sul tema del Natale\, e godere dall’alto della cupola di due brani che il Vox Silvae Ensamble eseguirà nel coro della cattedrale appositamente per i partecipanti. L’itinerario si concluderà in Cattedrale per permettere di assistere al concerto. \nContributo di partecipazione: 12\,00 €\nPrenotazione obbligatoria a cattedralepiacenza@gmail.com o 331 460 6435
URL:https://piacenzapace.it/eventi/immagini-e-suoni-di-natale/
LOCATION:Privato: Cattedrale di Piacenza\, Piazza Duomo\, Piacenza\, Italia
CATEGORIES:Concerti,Natale ad Arte 2023
ATTACH;FMTTYPE=image/jpeg:https://piacenzapace.it/wp-content/uploads/2023/11/cupola-1-scaled.jpg
END:VEVENT
BEGIN:VEVENT
DTSTART;TZID=Europe/Rome:20231221T210000
DTEND;TZID=Europe/Rome:20231221T220000
DTSTAMP:20260420T114603
CREATED:20231117T120241Z
LAST-MODIFIED:20231201T182643Z
UID:10669-1703192400-1703196000@piacenzapace.it
SUMMARY:VOX SILVAE ENSEMBLE - Concerto nel coro della Cattedrale
DESCRIPTION:VOX SILVAE ENSEMBLE\, coro che si occupa di promuovere musica corale dal gregoriano ai giorni nostri\, eseguirà un programma speciale:\n_Canti tradizionali di Natale di diverse origini tra cui carols inglesi e popolari italiani.\n_brani polifonici di varie epoche e diversi autori. \ningresso libero fino a esaurimento posti
URL:https://piacenzapace.it/eventi/concerto-nel-coro/
LOCATION:Privato: Cattedrale di Piacenza\, Piazza Duomo\, Piacenza\, Italia
CATEGORIES:Concerti,Natale ad Arte 2023
ATTACH;FMTTYPE=image/jpeg:https://piacenzapace.it/wp-content/uploads/2023/11/vox-silvae.jpg
END:VEVENT
END:VCALENDAR