BEGIN:VCALENDAR
VERSION:2.0
PRODID:-//Piacenza Patrimonio Culturale Ecclesiale - ECPv6.5.1.4//NONSGML v1.0//EN
CALSCALE:GREGORIAN
METHOD:PUBLISH
X-ORIGINAL-URL:https://piacenzapace.it
X-WR-CALDESC:Eventi per Piacenza Patrimonio Culturale Ecclesiale
REFRESH-INTERVAL;VALUE=DURATION:PT1H
X-Robots-Tag:noindex
X-PUBLISHED-TTL:PT1H
BEGIN:VTIMEZONE
TZID:Europe/Rome
BEGIN:DAYLIGHT
TZOFFSETFROM:+0100
TZOFFSETTO:+0200
TZNAME:CEST
DTSTART:20240331T010000
END:DAYLIGHT
BEGIN:STANDARD
TZOFFSETFROM:+0200
TZOFFSETTO:+0100
TZNAME:CET
DTSTART:20241027T010000
END:STANDARD
END:VTIMEZONE
BEGIN:VEVENT
DTSTART;TZID=Europe/Rome:20240324T153000
DTEND;TZID=Europe/Rome:20240324T170000
DTSTAMP:20260419T163927
CREATED:20240304T075216Z
LAST-MODIFIED:20240309T185942Z
UID:11110-1711294200-1711299600@piacenzapace.it
SUMMARY:Alla ricerca delle uova perdute: un'avventura con Guercino
DESCRIPTION:ore 15:30 ATTIVITA’ DIDATTICA “Alla Ricerca delle Uova Perdute: Un’avventura con Guercino” \nDurata 1 ora e mezza\, dai 6 agli 11 anni. \nCome piccoli esploratori\, andiamo alla ricerca delle uova nascoste lungo il percorso dal pastore rappresentato nel celebre affresco di Guercino. Grazie ad una mappa che ci indicherà gli intricati percorsi del Museo Kronos\, riusciremo a riempire la cesta e a portare a casa il goloso bottino? \nPrenotazione obbligatoria: cattedralepiacenza@gmail.com | 331 4606435 (numero attivo dalle 10:00 alle 18:00)
URL:https://piacenzapace.it/eventi/ricercauova/
LOCATION:Kronos – Museo della Cattedrale\, via Prevostura 7\, Piacenza\, 29121
CATEGORIES:didattica,Primavera ad Arte
ATTACH;FMTTYPE=image/jpeg:https://piacenzapace.it/wp-content/uploads/2024/03/immagini-04-scaled.jpg
END:VEVENT
END:VCALENDAR