BEGIN:VCALENDAR
VERSION:2.0
PRODID:-//Piacenza Patrimonio Culturale Ecclesiale - ECPv6.5.1.4//NONSGML v1.0//EN
CALSCALE:GREGORIAN
METHOD:PUBLISH
X-ORIGINAL-URL:https://piacenzapace.it
X-WR-CALDESC:Eventi per Piacenza Patrimonio Culturale Ecclesiale
REFRESH-INTERVAL;VALUE=DURATION:PT1H
X-Robots-Tag:noindex
X-PUBLISHED-TTL:PT1H
BEGIN:VTIMEZONE
TZID:Europe/Rome
BEGIN:DAYLIGHT
TZOFFSETFROM:+0100
TZOFFSETTO:+0200
TZNAME:CEST
DTSTART:20240331T010000
END:DAYLIGHT
BEGIN:STANDARD
TZOFFSETFROM:+0200
TZOFFSETTO:+0100
TZNAME:CET
DTSTART:20241027T010000
END:STANDARD
END:VTIMEZONE
BEGIN:VEVENT
DTSTART;TZID=Europe/Rome:20240421T153000
DTEND;TZID=Europe/Rome:20240421T170000
DTSTAMP:20260422T125413
CREATED:20240308T132018Z
LAST-MODIFIED:20240416T132252Z
UID:11150-1713713400-1713718800@piacenzapace.it
SUMMARY:"Monopoli animato" al Museo Kronos
DESCRIPTION:Attività didattica “Monopoli animato” al Museo Kronos\nDurata 1 ora e mezza\, 6 – 11 anni. 3\,00 € \nDomenica 21 aprile\, ore 15:30\, con “Monopoli animato” al Museo Kronos i piccoli visitatori si divideranno in squadre e trasformandosi in pedine viventi in un divertente Monopoli in cui ogni tappa sarà una diversa sezione del museo. Lo scopo del gioco sarà “entrare in possesso” delle opere più belle e preziose utilizzando una speciale “moneta”. I partecipanti saranno in grado di superare le sfide contenute nelle probabilità o negli imprevisti? \nIscrizione anticipata obbligatoria \ncattedralepiacenza@gmail.com | 331 4606435 (numero attivo dalle 10:00 alle 18:00)
URL:https://piacenzapace.it/eventi/monopoli/
LOCATION:Kronos – Museo della Cattedrale\, via Prevostura 7\, Piacenza\, 29121
CATEGORIES:didattica,Primavera ad Arte
ATTACH;FMTTYPE=image/jpeg:https://piacenzapace.it/wp-content/uploads/2020/06/kronos-sala5-scaled-e1709903988109.jpg
END:VEVENT
END:VCALENDAR