BEGIN:VCALENDAR
VERSION:2.0
PRODID:-//Piacenza Patrimonio Culturale Ecclesiale - ECPv6.5.1.4//NONSGML v1.0//EN
CALSCALE:GREGORIAN
METHOD:PUBLISH
X-WR-CALNAME:Piacenza Patrimonio Culturale Ecclesiale
X-ORIGINAL-URL:https://piacenzapace.it
X-WR-CALDESC:Eventi per Piacenza Patrimonio Culturale Ecclesiale
REFRESH-INTERVAL;VALUE=DURATION:PT1H
X-Robots-Tag:noindex
X-PUBLISHED-TTL:PT1H
BEGIN:VTIMEZONE
TZID:Europe/Rome
BEGIN:DAYLIGHT
TZOFFSETFROM:+0100
TZOFFSETTO:+0200
TZNAME:CEST
DTSTART:20240331T010000
END:DAYLIGHT
BEGIN:STANDARD
TZOFFSETFROM:+0200
TZOFFSETTO:+0100
TZNAME:CET
DTSTART:20241027T010000
END:STANDARD
BEGIN:DAYLIGHT
TZOFFSETFROM:+0100
TZOFFSETTO:+0200
TZNAME:CEST
DTSTART:20250330T010000
END:DAYLIGHT
BEGIN:STANDARD
TZOFFSETFROM:+0200
TZOFFSETTO:+0100
TZNAME:CET
DTSTART:20251026T010000
END:STANDARD
END:VTIMEZONE
BEGIN:VEVENT
DTSTART;TZID=Europe/Rome:20241208T153000
DTEND;TZID=Europe/Rome:20250106T170000
DTSTAMP:20260419T235028
CREATED:20241205T085702Z
LAST-MODIFIED:20241205T085702Z
UID:11694-1733671800-1736182800@piacenzapace.it
SUMMARY:Natale ad Arte
DESCRIPTION:Torna la rassegna culturale “Natale ad Arte”\, giunta alla sua ottava edizione\, organizzata da Kronos – Museo della Cattedrale e CoolTour s.c.. \nAnche quest’anno\, il programma offre una serie di eventi pensati per tutti i gusti e le età\, con una particolare attenzione ai più piccoli. \nDal 1° dicembre 2024 al 6 gennaio 2025\, sarà possibile partecipare a laboratori\, visite guidate\, concerti e molte altre attività\, per scoprire e apprezzare il patrimonio artistico e storico della cattedrale e del suo museo. \nInfo e prenotazioni: 331 4606435 (numero attivo dal martedì alla domenica dalle 10 alle 18) – cattedralepiacenza@gmail.com
URL:https://piacenzapace.it/eventi/natale-ad-arte/
LOCATION:Kronos – Museo della Cattedrale\, via Prevostura 7\, Piacenza\, 29121
ATTACH;FMTTYPE=image/jpeg:https://piacenzapace.it/wp-content/uploads/2024/12/Natale-ad-Arte-2024-01.jpg
END:VEVENT
END:VCALENDAR