BEGIN:VCALENDAR
VERSION:2.0
PRODID:-//Piacenza Patrimonio Culturale Ecclesiale - ECPv6.5.1.4//NONSGML v1.0//EN
CALSCALE:GREGORIAN
METHOD:PUBLISH
X-ORIGINAL-URL:https://piacenzapace.it
X-WR-CALDESC:Eventi per Piacenza Patrimonio Culturale Ecclesiale
REFRESH-INTERVAL;VALUE=DURATION:PT1H
X-Robots-Tag:noindex
X-PUBLISHED-TTL:PT1H
BEGIN:VTIMEZONE
TZID:Europe/Rome
BEGIN:DAYLIGHT
TZOFFSETFROM:+0100
TZOFFSETTO:+0200
TZNAME:CEST
DTSTART:20250330T010000
END:DAYLIGHT
BEGIN:STANDARD
TZOFFSETFROM:+0200
TZOFFSETTO:+0100
TZNAME:CET
DTSTART:20251026T010000
END:STANDARD
END:VTIMEZONE
BEGIN:VEVENT
DTSTART;TZID=Europe/Rome:20250402T210000
DTEND;TZID=Europe/Rome:20250402T220000
DTSTAMP:20260420T071628
CREATED:20250321T101729Z
LAST-MODIFIED:20250326T181842Z
UID:11886-1743627600-1743631200@piacenzapace.it
SUMMARY:"Irlanda\, destinazione Bobbio"
DESCRIPTION:VISITA ONLINE su piattaforma ZOOM \nIn occasione del Giubileo 2025 dedicato ai Pellegrini di Speranza\, torna il viaggio virtuale tra Irlanda e Bobbio sulle orme di un pellegrino d’eccellenza: San Colombano. Andiamo alla scoperta di questo santo che\, dalla sua terra\, ha percorso chilometri per raggiungere Roma\, fermandosi proprio nel piccolo villaggio dell’Appennino piacentino dove ha dato vita ad un monastero capace di diventare fiore all’occhiello della cultura medievale europea. E il legame dell’Irlanda con il nostro territorio non finisce qui\, come testimonia anche la chiesa di Santa Brigida a Piacenza\, nata proprio come punto di riferimento per i pellegrini irlandesi. Insomma\, un vero e proprio pellegrinaggio dall’Irlanda al piacentino tra arte\, storia e leggende. \nRegistrazione obbligatoria al link: https://forms.gle/URcUmHGKoyEEEVA76
URL:https://piacenzapace.it/eventi/irlanda-bobbio/
LOCATION:Privato: Online su ZOOM
CATEGORIES:Primavera ad Arte,Tour virtuali
ATTACH;FMTTYPE=image/jpeg:https://piacenzapace.it/wp-content/uploads/2025/03/immagini-02-scaled.jpg
END:VEVENT
END:VCALENDAR