BEGIN:VCALENDAR
VERSION:2.0
PRODID:-//Piacenza Patrimonio Culturale Ecclesiale - ECPv6.5.1.4//NONSGML v1.0//EN
CALSCALE:GREGORIAN
METHOD:PUBLISH
X-WR-CALNAME:Piacenza Patrimonio Culturale Ecclesiale
X-ORIGINAL-URL:https://piacenzapace.it
X-WR-CALDESC:Eventi per Piacenza Patrimonio Culturale Ecclesiale
REFRESH-INTERVAL;VALUE=DURATION:PT1H
X-Robots-Tag:noindex
X-PUBLISHED-TTL:PT1H
BEGIN:VTIMEZONE
TZID:Europe/Rome
BEGIN:DAYLIGHT
TZOFFSETFROM:+0100
TZOFFSETTO:+0200
TZNAME:CEST
DTSTART:20250330T010000
END:DAYLIGHT
BEGIN:STANDARD
TZOFFSETFROM:+0200
TZOFFSETTO:+0100
TZNAME:CET
DTSTART:20251026T010000
END:STANDARD
END:VTIMEZONE
BEGIN:VEVENT
DTSTART;TZID=Europe/Rome:20250405T150000
DTEND;TZID=Europe/Rome:20250405T163000
DTSTAMP:20260420T052225
CREATED:20250321T102757Z
LAST-MODIFIED:20250401T130215Z
UID:11893-1743865200-1743870600@piacenzapace.it
SUMMARY:"Piacenza SottoSopra"
DESCRIPTION:In occasione di Primavera ad Arte arriva l’appuntamento “Piacenza SottoSopra”.\nEvento straordinario che coinvolge Kronos – Museo della Cattedrale e la Chiesa di Santa Maria in Cortina \nGrazie ai passaggi medievali della Cattedrale si potrà ammirare dall’alto la città e la zona dell’altare maggiore\, nonché avvicinarsi agli affreschi seicenteschi di Ludovico Carracci e Camillo Procaccini. Dopo questo sguardo dall’alto\, si cambierà del tutto il punto di vista\, raggiungendo la piccola chiesa di Santa in Cortina\, per scendere in profondità all’interno di una camera sepolcrale di epoca romana e scoprirne la leggenda legata a Sant’Antonino\, patrono della città. \nUna visita dall’alto al basso per non smettere di guardare la città e le sue bellezze da prospettive del tutto differenti. per tutti (a partire dai 6 anni) contributo di partecipazione: 10\,00 € \nPrenotazione obbligatoria a cattedralepiacenza@gmail.com o 331 460 6435\nAttivazione al raggiungimento di un numero minimo di iscritti.
URL:https://piacenzapace.it/eventi/piacenza-sottosopra-ii/
LOCATION:Kronos – Museo della Cattedrale\, via Prevostura 7\, Piacenza\, 29121
CATEGORIES:Primavera ad Arte
ATTACH;FMTTYPE=image/jpeg:https://piacenzapace.it/wp-content/uploads/2025/03/pozzo-discesa.jpg
END:VEVENT
END:VCALENDAR