BEGIN:VCALENDAR
VERSION:2.0
PRODID:-//Piacenza Patrimonio Culturale Ecclesiale - ECPv6.5.1.4//NONSGML v1.0//EN
CALSCALE:GREGORIAN
METHOD:PUBLISH
X-WR-CALNAME:Piacenza Patrimonio Culturale Ecclesiale
X-ORIGINAL-URL:https://piacenzapace.it
X-WR-CALDESC:Eventi per Piacenza Patrimonio Culturale Ecclesiale
REFRESH-INTERVAL;VALUE=DURATION:PT1H
X-Robots-Tag:noindex
X-PUBLISHED-TTL:PT1H
BEGIN:VTIMEZONE
TZID:Europe/Rome
BEGIN:DAYLIGHT
TZOFFSETFROM:+0100
TZOFFSETTO:+0200
TZNAME:CEST
DTSTART:20250330T010000
END:DAYLIGHT
BEGIN:STANDARD
TZOFFSETFROM:+0200
TZOFFSETTO:+0100
TZNAME:CET
DTSTART:20251026T010000
END:STANDARD
END:VTIMEZONE
BEGIN:VEVENT
DTSTART;TZID=Europe/Rome:20250406T153000
DTEND;TZID=Europe/Rome:20250406T170000
DTSTAMP:20260420T052235
CREATED:20250321T103142Z
LAST-MODIFIED:20250324T140620Z
UID:11896-1743953400-1743958800@piacenzapace.it
SUMMARY:"Capitelli di Primavera"
DESCRIPTION:La primavera è il risveglio della natura e alla natura gli uomini si sono sempre ispirati per creare le proprie opere e comunicare un messaggio. Andremo alla scoperta dei capitelli della cattedrale\, con i loro animali fantastici e i loro ricchi fogliami. Cosa rappresentano? Scopriamo insieme cosa ci vogliono narrare attraverso una passeggiata tra le colonne della chiesa e il supporto di foto ad alta definizione\, per poi liberare la fantasia inventando nuovi capitelli ricchi e colorati come la primavera! \netà: 6 – 11 anni contributo di partecipazione: 5\,00 € \nPrenotazione obbligatoria a cattedralepiacenza@gmail.com o 331 460 6435\nAttivazione al raggiungimento di un numero minimo di iscritti.
URL:https://piacenzapace.it/eventi/capitelli-di-primavera/
LOCATION:Kronos – Museo della Cattedrale\, via Prevostura 7\, Piacenza\, 29121
CATEGORIES:Primavera ad Arte
ATTACH;FMTTYPE=image/jpeg:https://piacenzapace.it/wp-content/uploads/2023/03/capitello.-N-SN_1_LATO-SINISTRO_B_2-scaled.jpg
END:VEVENT
BEGIN:VEVENT
DTSTART;TZID=Europe/Rome:20250406T160000
DTEND;TZID=Europe/Rome:20250406T180000
DTSTAMP:20260420T052235
CREATED:20250321T104925Z
LAST-MODIFIED:20250324T140824Z
UID:11900-1743955200-1743962400@piacenzapace.it
SUMMARY:"Detective ad Arte: indizi di pietra tra le sculture di epoca federiciana nel territorio piacentino - Tappa I"
DESCRIPTION:Un percorso in due appuntamenti per scovare le tracce della scultura di epoca federiciana tra Piacenza e il suo territorio\, sullo sfondo del legame del Barbarossa con la città. Nell’anno Giubilare in cui ci troviamo\, il primo appuntamento in presenza permetterà di scoprire nuovi dettagli dei due luoghi simbolo della spiritualità piacentina\, la Cattedrale e la basilica di Sant’Antonino\, collocate lungo il tratto urbano della via Francigena e tappe fondamentali dei pellegrini di ogni tempo. \nUn’indagine sull’apparato scultoreo delle due chiese che ci porterà ben oltre la città di Piacenza e il corso del Po. \nvisita per adulti contributo di partecipazione: 12\,00 € (comprensivo di accesso esclusivo alla conferenza online-visita virtuale del 16 aprile\, ore 21:00). \nPrenotazione obbligatoria a cattedralepiacenza@gmail.com o 331 460 6435\nAttivazione al raggiungimento di un numero minimo di iscritti.
URL:https://piacenzapace.it/eventi/detective-ad-arte-indizi-di-pietra-tra-le-sculture-di-epoca-federiciana-nel-territorio-piacentino-tappa-i/
LOCATION:Kronos – Museo della Cattedrale\, via Prevostura 7\, Piacenza\, 29121
CATEGORIES:Primavera ad Arte
ATTACH;FMTTYPE=image/jpeg:https://piacenzapace.it/wp-content/uploads/2025/03/cattedrale_luce.jpg
END:VEVENT
END:VCALENDAR