BEGIN:VCALENDAR
VERSION:2.0
PRODID:-//Piacenza Patrimonio Culturale Ecclesiale - ECPv6.5.1.4//NONSGML v1.0//EN
CALSCALE:GREGORIAN
METHOD:PUBLISH
X-ORIGINAL-URL:https://piacenzapace.it
X-WR-CALDESC:Eventi per Piacenza Patrimonio Culturale Ecclesiale
REFRESH-INTERVAL;VALUE=DURATION:PT1H
X-Robots-Tag:noindex
X-PUBLISHED-TTL:PT1H
BEGIN:VTIMEZONE
TZID:Europe/Rome
BEGIN:DAYLIGHT
TZOFFSETFROM:+0100
TZOFFSETTO:+0200
TZNAME:CEST
DTSTART:20250330T010000
END:DAYLIGHT
BEGIN:STANDARD
TZOFFSETFROM:+0200
TZOFFSETTO:+0100
TZNAME:CET
DTSTART:20251026T010000
END:STANDARD
END:VTIMEZONE
BEGIN:VEVENT
DTSTART;TZID=Europe/Rome:20250416T210000
DTEND;TZID=Europe/Rome:20250416T220000
DTSTAMP:20260420T071534
CREATED:20250321T153843Z
LAST-MODIFIED:20250324T141412Z
UID:11925-1744837200-1744840800@piacenzapace.it
SUMMARY:"Detective ad Arte: indizi di pietra tra le sculture di epoca federiciana nel territorio piacentino - Tappa II"
DESCRIPTION:Secondo appuntamento\, da remoto\, (prosecuzione del primo appuntamento di visita in presenza) con l’indagine sulle sculture di epoca federiciana. Una visita online che permetterà di approfondire il legame tra le opere della Cattedrale di Piacenza e della basilica di Sant’Antonino con altri luoghi di grande spiritualità del nostro territorio: la collegiata di Castell’Arquato e la chiesa del borgo di Vigoleno. Una nuova indagine sulle tracce lasciate dalla cultura del tempo di Federico Barbarossa. \n  \nEVENTO RISERVATO AI PARTECIPANTI ALLA VISITA IN PRESENZA DI DOMENICA 6 APRILE.
URL:https://piacenzapace.it/eventi/detective-ad-arte-indizi-di-pietra-tra-le-sculture-di-epoca-federiciana-nel-territorio-piacentino-tappa-ii/
LOCATION:Privato: Online su ZOOM
CATEGORIES:Primavera ad Arte
ATTACH;FMTTYPE=image/jpeg:https://piacenzapace.it/wp-content/uploads/2025/03/virtuale-01-scaled.jpg
END:VEVENT
END:VCALENDAR