BEGIN:VCALENDAR
VERSION:2.0
PRODID:-//Piacenza Patrimonio Culturale Ecclesiale - ECPv6.5.1.4//NONSGML v1.0//EN
CALSCALE:GREGORIAN
METHOD:PUBLISH
X-WR-CALNAME:Piacenza Patrimonio Culturale Ecclesiale
X-ORIGINAL-URL:https://piacenzapace.it
X-WR-CALDESC:Eventi per Piacenza Patrimonio Culturale Ecclesiale
REFRESH-INTERVAL;VALUE=DURATION:PT1H
X-Robots-Tag:noindex
X-PUBLISHED-TTL:PT1H
BEGIN:VTIMEZONE
TZID:Europe/Rome
BEGIN:DAYLIGHT
TZOFFSETFROM:+0100
TZOFFSETTO:+0200
TZNAME:CEST
DTSTART:20250330T010000
END:DAYLIGHT
BEGIN:STANDARD
TZOFFSETFROM:+0200
TZOFFSETTO:+0100
TZNAME:CET
DTSTART:20251026T010000
END:STANDARD
END:VTIMEZONE
BEGIN:VEVENT
DTSTART;TZID=Europe/Rome:20250413T153000
DTEND;TZID=Europe/Rome:20250413T170000
DTSTAMP:20260421T231030
CREATED:20250321T153239Z
LAST-MODIFIED:20250324T141930Z
UID:11923-1744558200-1744563600@piacenzapace.it
SUMMARY:"Ma quante uova!"
DESCRIPTION:LABORATORIO DIDATTICO per FAMIGLIE + MERENDA \nPiccole\, grandi\, decorate e con sorpresa\, le uova sono le protagoniste della festa di Pasqua! Ma perché proprio le uova? E perché di cioccolato? Scopriamolo insieme e divertiamoci a creare delle belle uova colorate con cui abbellire le nostre tavole il giorno di Pasqua. Ad aspettarci ci sarà poi una golosa merenda con le uova di cioccolato della Cioccolateria 180\, per scoprire i segreti della lavorazione di\nquesto prodotto delizioso e di questa realtà a cui il cioccolato “fa impazzire”! \nPer famiglie\nEvento con contributo di partecipazione: 8 euro bambini e 6 euro adulti\nPrenotazione obbligatoria a cattedralepiacenza@gmail.com o 331 460 6435 \nAttivazione al raggiungimento di un numero minimo di partecipanti.
URL:https://piacenzapace.it/eventi/ma-quante-uova/
LOCATION:Kronos – Museo della Cattedrale\, via Prevostura 7\, Piacenza\, 29121
CATEGORIES:didattica,Primavera ad Arte
ATTACH;FMTTYPE=image/jpeg:https://piacenzapace.it/wp-content/uploads/2023/03/uova-da-dipingere.jpg
END:VEVENT
BEGIN:VEVENT
DTSTART;TZID=Europe/Rome:20250501T153000
DTEND;TZID=Europe/Rome:20250501T170000
DTSTAMP:20260421T231030
CREATED:20250321T110922Z
LAST-MODIFIED:20250324T142243Z
UID:11908-1746113400-1746118800@piacenzapace.it
SUMMARY:"Bee Life: il mondo della api a tutto tondo"
DESCRIPTION:Laboratorio didattico per famiglie \nSono piccole\, ma preziosissime per l’ambiente in cui viviamo: le api saranno le protagoniste di questo laboratorio in compagnia dell’apicoltore Luca Modolo. Luca ci accompagnerà alla scoperta di queste creature e del loro prodotto per eccellenza\, il miele\, per essere pronti\, poi\, a realizzare delle piccole opere in cera. Un’occasione speciale nella festa dei lavoratori per conoscere a tutto tondo la vita di operaie davvero straordinarie! \nper famiglie\ncontributo di partecipazione: 8 euro bambini\, 6 euro adulti. \nPrenotazione obbligatoria a cattedralepiacenza@gmail.com o 331 460 6435\nAttivazione al raggiungimento di un numero minimo di iscritti.
URL:https://piacenzapace.it/eventi/bee/
LOCATION:Kronos – Museo della Cattedrale\, via Prevostura 7\, Piacenza\, 29121
CATEGORIES:didattica,Primavera ad Arte
ATTACH;FMTTYPE=image/webp:https://piacenzapace.it/wp-content/uploads/2025/03/ape_1020x680.webp
END:VEVENT
END:VCALENDAR