BEGIN:VCALENDAR
VERSION:2.0
PRODID:-//Piacenza Patrimonio Culturale Ecclesiale - ECPv6.5.1.4//NONSGML v1.0//EN
CALSCALE:GREGORIAN
METHOD:PUBLISH
X-WR-CALNAME:Piacenza Patrimonio Culturale Ecclesiale
X-ORIGINAL-URL:https://piacenzapace.it
X-WR-CALDESC:Eventi per Piacenza Patrimonio Culturale Ecclesiale
REFRESH-INTERVAL;VALUE=DURATION:PT1H
X-Robots-Tag:noindex
X-PUBLISHED-TTL:PT1H
BEGIN:VTIMEZONE
TZID:Europe/Rome
BEGIN:DAYLIGHT
TZOFFSETFROM:+0100
TZOFFSETTO:+0200
TZNAME:CEST
DTSTART:20250330T010000
END:DAYLIGHT
BEGIN:STANDARD
TZOFFSETFROM:+0200
TZOFFSETTO:+0100
TZNAME:CET
DTSTART:20251026T010000
END:STANDARD
END:VTIMEZONE
BEGIN:VEVENT
DTSTART;TZID=Europe/Rome:20250517T160000
DTEND;TZID=Europe/Rome:20250517T170000
DTSTAMP:20260419T181600
CREATED:20250507T105544Z
LAST-MODIFIED:20250507T110254Z
UID:12025-1747497600-1747501200@piacenzapace.it
SUMMARY:La vita come dono di sé: i Santi e i Beati del territorio piacentino
DESCRIPTION:«Nel tuo nome l’arte parla di comunità» \nTre appuntamenti tra itinerari\, aperture straordinarie ed esposizioni a cura di Kronos – Museo della Cattedrale\, Archivio Storico Diocesano e Biblioteca Ecclesiastica \nIn occasione del Giubileo della Speranza 2025\, anche la Diocesi di Piacenza-Bobbio partecipa al progetto nazionale “Nel tuo nome. L’arte parla di comunità”\, promosso dall’Ufficio Nazionale per i beni culturali ecclesiastici e l’edilizia di culto della CEI e condiviso con le diocesi di tutta Italia.\nIl cuore dell’iniziativa è una mostra giubilare diffusa\, un grande percorso culturale e spirituale che si sviluppa attraverso il territorio italiano\, coinvolgendo musei diocesani\, archivi\, biblioteche\, chiese e comunità locali. \nA Piacenza e Bobbio\, il progetto si concretizza in tre eventi promossi da Kronos – Museo della Cattedrale\, l’Archivio Storico Diocesano e la Biblioteca Ecclesiastica\, con l’obiettivo di valorizzare figure esemplari del territorio e il patrimonio storico-artistico della Chiesa locale come strumenti di riflessione\, memoria e speranza. \nITINERARIO A TAPPE \n“La vita come dono di sé: i Santi e i Beati del territorio piacentino” \nUn itinerario a due tappe che ripercorre\, attraverso luoghi d’arte e memoria\, la vita di alcune figure che hanno fatto della propria esistenza un dono agli altri. Dai Santi patroni Antonino e Giustina\, a San Colombano fondatore del monastero di Bobbio; dai vescovi Scalabrini e Gianelli\, instancabili pastori\, fino a figure legate alla devozione popolare come San Corrado\, San Rocco\, San Martino. \n\nDomenica 11 maggio 2025\, ore 11.00\nBobbio – Ritrovo davanti all’Abbazia di San Colombano\nUn percorso guidato alla scoperta della spiritualità monastica e dei segni lasciati da San Colombano e dalla tradizione bobbiese.\nPrenotazione consigliata: info@cooltour.it – 351 7221207 (partecipazione gratuita)\n\n\nSabato 17 maggio 2025\, ore 16.00\nPiacenza – Ritrovo davanti alla Basilica di Sant’Antonino\nUn itinerario urbano tra chiese\, memorie e testimonianze di fede nel cuore della città.\nPrenotazione consigliata: cattedralepiacenza@gmail.com – 331 4606435 (partecipazione gratuita) 
URL:https://piacenzapace.it/eventi/la-vita-come-dono-di-se-i-santi-e-i-beati-del-territorio-piacentino-2/
LOCATION:Privato: Cattedrale di Piacenza\, Piazza Duomo\, Piacenza\, Italia
ATTACH;FMTTYPE=image/jpeg:https://piacenzapace.it/wp-content/uploads/2025/05/CEI_enti_LOCANDINA-A4-kronos25.jpg
END:VEVENT
BEGIN:VEVENT
DTSTART;TZID=Europe/Rome:20250517T180000
DTEND;TZID=Europe/Rome:20250517T200000
DTSTAMP:20260419T181600
CREATED:20250516T134044Z
LAST-MODIFIED:20250516T134044Z
UID:12036-1747504800-1747512000@piacenzapace.it
SUMMARY:Notte Europea dei Musei
DESCRIPTION:Visita accompagnata al Museo Kronos \nIn occasione della Notte dei Musei\, il Museo Kronos propone una speciale visita serale\, pensata per chi ama l’arte\, la storia e le suggestioni del patrimonio religioso. Un percorso guidato all’interno degli ambienti storici della Cattedrale e dell’antico palazzo della Prevostura\, tra opere d’arte sacra\, sculture lignee\, preziosi reliquiari\, tessuti liturgici e dipinti di maestri come Guido Reni\, Tagliasacchi e Robert De Longe. Fulcro della visita sarà il celebre Codice 65\, manoscritto liturgico del XII secolo di rilievo europeo\, introdotto da un’affascinante experience room e postazioni multimediali. \nA conclusione\, la cupola affrescata dal Guercino – non visitabile per lavori – sarà presentata attraverso visori di realtà aumentata\, che permetteranno una visione immersiva e ravvicinata del celebre ciclo seicentesco. \nLa serata si concluderà con un piccolo aperitivo offerto ai partecipanti\, per condividere impressioni e suggestioni in un’atmosfera conviviale. \nCosto 20€ a persona \nPrenotazione obbligatoria entro le ore 10:00 di sabato 17 maggio tramite email: cattedralepiacenza@gmail.com  \nPer informazioni cattedralepiacenza@gmail.com  \n3314606435 (numero attivo dalle 10:00 alle 18:00) \nL’evento partirà a raggiungimento di un numero minimo di partecipanti.
URL:https://piacenzapace.it/eventi/notte-europea-dei-musei/
LOCATION:Kronos – Museo della Cattedrale\, via Prevostura 7\, Piacenza\, 29121
ATTACH;FMTTYPE=image/jpeg:https://piacenzapace.it/wp-content/uploads/2025/05/Notte-dei-musei-2025-01-scaled.jpg
END:VEVENT
END:VCALENDAR