BEGIN:VCALENDAR
VERSION:2.0
PRODID:-//Piacenza Patrimonio Culturale Ecclesiale - ECPv6.5.1.4//NONSGML v1.0//EN
CALSCALE:GREGORIAN
METHOD:PUBLISH
X-WR-CALNAME:Piacenza Patrimonio Culturale Ecclesiale
X-ORIGINAL-URL:https://piacenzapace.it
X-WR-CALDESC:Eventi per Piacenza Patrimonio Culturale Ecclesiale
REFRESH-INTERVAL;VALUE=DURATION:PT1H
X-Robots-Tag:noindex
X-PUBLISHED-TTL:PT1H
BEGIN:VTIMEZONE
TZID:Europe/Rome
BEGIN:DAYLIGHT
TZOFFSETFROM:+0100
TZOFFSETTO:+0200
TZNAME:CEST
DTSTART:20230326T010000
END:DAYLIGHT
BEGIN:STANDARD
TZOFFSETFROM:+0200
TZOFFSETTO:+0100
TZNAME:CET
DTSTART:20231029T010000
END:STANDARD
END:VTIMEZONE
BEGIN:VEVENT
DTSTART;TZID=Europe/Rome:20231126T153000
DTEND;TZID=Europe/Rome:20231126T173000
DTSTAMP:20260419T192723
CREATED:20231117T090517Z
LAST-MODIFIED:20231118T184428Z
UID:10593-1701012600-1701019800@piacenzapace.it
SUMMARY:Museo Kronos: un calendario dell’Avvento su misura
DESCRIPTION:Qual è il fulcro centrale del presepe? La capanna con Maria\, Giuseppe e il Gesù Bambino! E sapete quante volte e come sono rappresentati nelle opere del museo Kronos? Scopriamolo insieme e inseriamole nel nostro calendario dell’Avvento personalizzato\, che impreziosiremo con vivaci colori e decorazioni! \netà: 5 – 11 anni\ncontributo di partecipazione: 3\,00 €\nPrenotazione obbligatoria a cattedralepiacenza@gmail.com o 331 460 6435
URL:https://piacenzapace.it/eventi/museo-kronos-un-calendario-dellavvento-su-misura/
LOCATION:Kronos – Museo della Cattedrale\, via Prevostura 7\, Piacenza\, 29121
CATEGORIES:didattica,Natale ad Arte 2023
ATTACH;FMTTYPE=image/jpeg:https://piacenzapace.it/wp-content/uploads/2023/11/000-1-scaled.jpg
END:VEVENT
END:VCALENDAR