BEGIN:VCALENDAR
VERSION:2.0
PRODID:-//Piacenza Patrimonio Culturale Ecclesiale - ECPv6.5.1.4//NONSGML v1.0//EN
CALSCALE:GREGORIAN
METHOD:PUBLISH
X-ORIGINAL-URL:https://piacenzapace.it
X-WR-CALDESC:Eventi per Piacenza Patrimonio Culturale Ecclesiale
REFRESH-INTERVAL;VALUE=DURATION:PT1H
X-Robots-Tag:noindex
X-PUBLISHED-TTL:PT1H
BEGIN:VTIMEZONE
TZID:Europe/Rome
BEGIN:DAYLIGHT
TZOFFSETFROM:+0100
TZOFFSETTO:+0200
TZNAME:CEST
DTSTART:20250330T010000
END:DAYLIGHT
BEGIN:STANDARD
TZOFFSETFROM:+0200
TZOFFSETTO:+0100
TZNAME:CET
DTSTART:20251026T010000
END:STANDARD
END:VTIMEZONE
BEGIN:VEVENT
DTSTART;TZID=Europe/Rome:20250329T150000
DTEND;TZID=Europe/Rome:20250329T173000
DTSTAMP:20260420T032008
CREATED:20250321T100514Z
LAST-MODIFIED:20250324T135606Z
UID:11873-1743260400-1743269400@piacenzapace.it
SUMMARY:"Piacenza SottoSopra"
DESCRIPTION:In occasione di Primavera ad Arte arriva l’appuntamento “Piacenza SottoSopra”.\nEvento straordinario che coinvolge Kronos – Museo della Cattedrale e la Chiesa di Santa Maria in Cortina \nGrazie ai passaggi medievali della Cattedrale si potrà ammirare dall’alto la città e la zona dell’altare maggiore\, nonché avvicinarsi agli affreschi seicenteschi di Ludovico Carracci e Camillo Procaccini. Dopo questo sguardo dall’alto\, si cambierà del tutto il punto di vista\, raggiungendo la piccola chiesa di Santa in Cortina\, per scendere in profondità all’interno di una camera sepolcrale di epoca romana e scoprirne la leggenda legata a Sant’Antonino\, patrono della città. \nUna visita dall’alto al basso per non smettere di guardare la città e le sue bellezze da prospettive del tutto differenti. Per tutti (a partire dai 6 anni) contributo di partecipazione: 10\,00 €. \nPrenotazione obbligatoria a cattedralepiacenza@gmail.com o 331 460 6435 \nAttivazione al raggiungimento di un numero minimo di iscritti.
URL:https://piacenzapace.it/eventi/piacenza-sottosopra/
LOCATION:Kronos – Museo della Cattedrale\, via Prevostura 7\, Piacenza\, 29121
CATEGORIES:Primavera ad Arte
ATTACH;FMTTYPE=image/jpeg:https://piacenzapace.it/wp-content/uploads/2025/03/pozzo-discesa.jpg
END:VEVENT
BEGIN:VEVENT
DTSTART;TZID=Europe/Rome:20250330T093000
DTEND;TZID=Europe/Rome:20250330T160000
DTSTAMP:20260420T032008
CREATED:20250325T164238Z
LAST-MODIFIED:20250326T114727Z
UID:11954-1743327000-1743350400@piacenzapace.it
SUMMARY:[Bobbio] Ritorno alle origini: dalla collezione Mazzolini ai racconti nel bosco
DESCRIPTION:Passi d’arte in collaborazione con Veronica Cavalloni di Art&trekking \nRitorno alle origini: dalla collezione Mazzolini ai racconti nel bosco \nUn percorso tra arte e natura\, partendo da una visita alla Collezione Mazzolini a Bobbio per poi dirigersi a Brugnello\, per scoprire i luoghi e le figure che hanno dato vita alla Collezione e ammirare la peculiare finestra tettonica di Bobbio. \nPartenza alle 9\,30 da Bobbio e rientro alle ore 16 circa. \nDistanza 16 km – Difficoltà Media -Tempo di percorrenza: 5 ore soste escluse \nL’escursione è a pagamento e verrà effettuata al raggiungimento di un numero minimo di iscritti. Le iscrizioni si chiudono alle ore 18\,00 del giorno precedente all’escursione. \nPer info e prenotazioni: info@cooltour.it – 351/7221207
URL:https://piacenzapace.it/eventi/dalla-mcm-a-brugnello-trekking/
LOCATION:museo collezione mazzolini\, Bobbio
CATEGORIES:Bobbio,Primavera ad Arte
ATTACH;FMTTYPE=image/png:https://piacenzapace.it/wp-content/uploads/2025/03/via-francigena.png
END:VEVENT
BEGIN:VEVENT
DTSTART;TZID=Europe/Rome:20250330T153000
DTEND;TZID=Europe/Rome:20250330T170000
DTSTAMP:20260420T032008
CREATED:20250321T101252Z
LAST-MODIFIED:20250321T101253Z
UID:11879-1743348600-1743354000@piacenzapace.it
SUMMARY:"Il curioso caso del cercatore di fiori"
DESCRIPTION:Ad ogni fiore corrisponde un dipinto\, ad ogni dipinto corrisponde un enigma. Attraversando stanze nascoste e corridoi labirintici\, riusciremo a risolvere il misterioso caso del ‘cercatore di fiori’ per trovare l’uscita? \nAttività didattica per età: 6 – 11 anni\ncontributo di partecipazione: 5\,00 €\nPrenotazione obbligatoria a cattedralepiacenza@gmail.com o 331 460 6435 \nAttivazione al raggiungimento di un numero minimo di iscritti.
URL:https://piacenzapace.it/eventi/il-curioso-caso-del-cercatore-di-fiori/
LOCATION:Kronos – Museo della Cattedrale\, via Prevostura 7\, Piacenza\, 29121
CATEGORIES:Primavera ad Arte
ATTACH;FMTTYPE=image/jpeg:https://piacenzapace.it/wp-content/uploads/2025/03/IMG_1338-scaled.jpg
END:VEVENT
END:VCALENDAR