BEGIN:VCALENDAR
VERSION:2.0
PRODID:-//Piacenza Patrimonio Culturale Ecclesiale - ECPv6.5.1.4//NONSGML v1.0//EN
CALSCALE:GREGORIAN
METHOD:PUBLISH
X-WR-CALNAME:Piacenza Patrimonio Culturale Ecclesiale
X-ORIGINAL-URL:https://piacenzapace.it
X-WR-CALDESC:Eventi per Piacenza Patrimonio Culturale Ecclesiale
REFRESH-INTERVAL;VALUE=DURATION:PT1H
X-Robots-Tag:noindex
X-PUBLISHED-TTL:PT1H
BEGIN:VTIMEZONE
TZID:Europe/Rome
BEGIN:DAYLIGHT
TZOFFSETFROM:+0100
TZOFFSETTO:+0200
TZNAME:CEST
DTSTART:20210328T010000
END:DAYLIGHT
BEGIN:STANDARD
TZOFFSETFROM:+0200
TZOFFSETTO:+0100
TZNAME:CET
DTSTART:20211031T010000
END:STANDARD
END:VTIMEZONE
BEGIN:VEVENT
DTSTART;TZID=Europe/Rome:20210109T143000
DTEND;TZID=Europe/Rome:20210109T163000
DTSTAMP:20260426T012806
CREATED:20201207T170600Z
LAST-MODIFIED:20210102T200129Z
UID:6956-1610202600-1610209800@piacenzapace.it
SUMMARY:[recupero] CACCIA AL TESORO DI BABBO NATALE - in presenza
DESCRIPTION:Nella notte di Natale\, un regalo è caduto dalla slitta di Santa Klaus: un povero bambino è rimasto senza un dono\, dobbiamo aiutarlo a ritrovare il suo regalo! Ritrovo al Parco della Galleana. (7 €/cad)\n\nPer prenotare inviare una e-mail a:\ncattedralepiacenza@gmail.com\ncon oggetto l’evento per cui si fa richiesta\no chiamare il 331 460 64 35 (dalle 10:00 alle 18:00)
URL:https://piacenzapace.it/eventi/caccia-al-tesoro-di-babbo-natale-in-presenza/
LOCATION:Parco della Galleana\, 45.03431275723119\, 9.68457060902158\, Piacenza\, 29121\, Italy
CATEGORIES:Eventi,Natale ad Arte 2020
END:VEVENT
END:VCALENDAR