BEGIN:VCALENDAR
VERSION:2.0
PRODID:-//Piacenza Patrimonio Culturale Ecclesiale - ECPv6.5.1.4//NONSGML v1.0//EN
CALSCALE:GREGORIAN
METHOD:PUBLISH
X-WR-CALNAME:Piacenza Patrimonio Culturale Ecclesiale
X-ORIGINAL-URL:https://piacenzapace.it
X-WR-CALDESC:Eventi per Piacenza Patrimonio Culturale Ecclesiale
REFRESH-INTERVAL;VALUE=DURATION:PT1H
X-Robots-Tag:noindex
X-PUBLISHED-TTL:PT1H
BEGIN:VTIMEZONE
TZID:Europe/Rome
BEGIN:DAYLIGHT
TZOFFSETFROM:+0100
TZOFFSETTO:+0200
TZNAME:CEST
DTSTART:20200329T010000
END:DAYLIGHT
BEGIN:STANDARD
TZOFFSETFROM:+0200
TZOFFSETTO:+0100
TZNAME:CET
DTSTART:20201025T010000
END:STANDARD
END:VTIMEZONE
BEGIN:VEVENT
DTSTART;TZID=Europe/Rome:20201210T180000
DTEND;TZID=Europe/Rome:20201210T193000
DTSTAMP:20260419T170112
CREATED:20201207T074706Z
LAST-MODIFIED:20201207T121128Z
UID:6902-1607623200-1607628600@piacenzapace.it
SUMMARY:PELLEGRINI IN CITTÀ: LE CHIESE DELLA VIA FRANCIGENA - in presenza
DESCRIPTION:In ottemperanza alle prescrizioni del DPCM del 3 dicembre 2020\, i Musei rimangono chiusi al pubblico fino al 15 gennaio (salvo nuove e ulteriori indicazioni ministeriali); la cultura però non si ferma e si arricchisce con le proposte della IV edizione di «Natale ad Arte»!\nEcco dunque in arrivo non solo appuntamenti online ma anche alcune visite guidate in esterno\, appuntamenti tematici per scoprire storia e curiosità della nostra città. \nDopo il grande interesse riscosso dal tour dedicato alla via Francigena incentrato sul tratto via Taverna-via Campagna-centro storico\, GIOVEDI’ 10 DICEMBRE ore 18 torna il tour dedicato alla via di pellegrinaggio\, con un approfondimento del tracciato piacentino che dal centro\, lungo via Scalabrini\, conduce fuori città. \nTrasformatevi con noi per un giorno in pellegrini per scoprire le bellezze delle tante chiese nate per dare ristoro spirituale e materiale si fedeli\, prima di ripartire per il lungo viaggio verso Roma. \nGli eventi\, realizzati in ottemperanza alle prescrizioni del DPCM del 3 dicembre 2020\, si svolgeranno in sicurezza\, con partecipazione contingentata\, uso obbligatorio della mascherina e distanza interpersonale minima da rispettare; è obbligatoria la prenotazione a cattedralepiacenza@gmail.com (canale preferenziale) o al numero 331 4606435.\nLa quota di partecipazione è di € 7 a persona. Attivazione a numero minimo di adesioni.
URL:https://piacenzapace.it/eventi/pellegrini-in-citta-le-chiese-della-via-francigena/
CATEGORIES:Eventi,Natale ad Arte 2020
ATTACH;FMTTYPE=image/jpeg:https://piacenzapace.it/wp-content/uploads/2020/12/DSC3024.jpg
END:VEVENT
END:VCALENDAR